BEGIN:VCALENDAR
VERSION:2.0
PRODID:-//Tukios.com/
BEGIN:VEVENT
UID:5fbc7b2a-f38f-4078-bdb0-d85fa2f51cbb@www.compeanfuneralhomes.com
DTSTAMP:20260421T000239Z
DTSTART:20260422T010000Z
DTEND:20260422T020000Z
SUMMARY:Rosary
DESCRIPTION:
URL:https://www.compeanfuneralhomes.com/obituaries/manuel-sanchez
LOCATION: 2102 Broadway Blvd  Houston TX 77012
GEO:29.7161184;-95.2710558
END:VEVENT
END:VCALENDAR