BEGIN:VCALENDAR
VERSION:2.0
PRODID:-//Tukios.com/
BEGIN:VEVENT
UID:fe0e3f0d-e257-4b8b-a8ba-a831cbeccf5e@www.compeanfuneralhomes.com
DTSTAMP:20260421T000126Z
DTSTART:20260421T220000Z
DTEND:20260422T020000Z
SUMMARY:Visitation
DESCRIPTION:
URL:https://www.compeanfuneralhomes.com/obituaries/manuel-sanchez
LOCATION: 2102 Broadway Blvd  Houston TX 77012
GEO:29.7161184;-95.2710558
END:VEVENT
END:VCALENDAR